Package: screenCounter Version: 1.6.0 Command: /Library/Frameworks/R.framework/Resources/bin/R CMD INSTALL screenCounter StartedAt: 2025-01-27 16:02:30 -0500 (Mon, 27 Jan 2025) EndedAt: 2025-01-27 16:03:51 -0500 (Mon, 27 Jan 2025) EllapsedTime: 81.4 seconds RetCode: 0 Status: OK