Package: scrapper Version: 1.0.3 Command: /home/biocbuild/R/R/bin/R CMD check --install=check:scrapper.install-out.txt --library=/home/biocbuild/R/R/site-library --no-vignettes --timings scrapper_1.0.3.tar.gz StartedAt: 2025-01-31 10:15:02 -0000 (Fri, 31 Jan 2025) EndedAt: 2025-01-31 10:18:17 -0000 (Fri, 31 Jan 2025) EllapsedTime: 195.1 seconds RetCode: 0 Status: WARNINGS CheckDir: scrapper.Rcheck Warnings: 1