Package: scrapper Version: 1.0.3 Command: /home/biocbuild/R/R/bin/R CMD build --keep-empty-dirs --no-resave-data scrapper StartedAt: 2025-04-01 02:31:10 -0000 (Tue, 01 Apr 2025) EndedAt: 2025-04-01 02:41:18 -0000 (Tue, 01 Apr 2025) EllapsedTime: 608.5 seconds RetCode: 0 Status: OK PackageFile: scrapper_1.0.3.tar.gz PackageFileSize: 483.1 KiB