Package: scrapper Version: 1.0.3 Command: chmod a+r scrapper -R && F:\biocbuild\bbs-3.20-bioc\R\bin\R.exe CMD build --keep-empty-dirs --no-resave-data scrapper StartedAt: 2025-03-31 21:47:03 -0400 (Mon, 31 Mar 2025) EndedAt: 2025-03-31 21:56:25 -0400 (Mon, 31 Mar 2025) EllapsedTime: 561.9 seconds RetCode: 0 Status: OK PackageFile: scrapper_1.0.3.tar.gz PackageFileSize: 355.7 KiB