Package: scrapper Version: 1.0.3 Command: /Library/Frameworks/R.framework/Resources/bin/R CMD build --keep-empty-dirs --no-resave-data scrapper StartedAt: 2025-03-31 21:51:08 -0400 (Mon, 31 Mar 2025) EndedAt: 2025-03-31 22:04:28 -0400 (Mon, 31 Mar 2025) EllapsedTime: 800.8 seconds RetCode: 0 Status: OK PackageFile: scrapper_1.0.3.tar.gz PackageFileSize: 648.7 KiB