Package: scrapper Version: 1.0.3 Command: /Library/Frameworks/R.framework/Resources/bin/R CMD INSTALL scrapper StartedAt: 2025-03-31 15:19:59 -0400 (Mon, 31 Mar 2025) EndedAt: 2025-03-31 15:24:32 -0400 (Mon, 31 Mar 2025) EllapsedTime: 272.4 seconds RetCode: 0 Status: OK