Package: scrapper Version: 1.0.3 Command: /Library/Frameworks/R.framework/Resources/bin/R CMD build --keep-empty-dirs --no-resave-data scrapper StartedAt: 2025-04-01 07:20:49 -0400 (Tue, 01 Apr 2025) EndedAt: 2025-04-01 07:27:51 -0400 (Tue, 01 Apr 2025) EllapsedTime: 421.4 seconds RetCode: 0 Status: OK PackageFile: scrapper_1.0.3.tar.gz PackageFileSize: 652.5 KiB