Package: scrapper Version: 1.0.3 Command: rm -rf scrapper.buildbin-libdir && mkdir scrapper.buildbin-libdir && /Users/biocbuild/BBS/utils/build-universal.sh scrapper_1.0.3.tar.gz /Library/Frameworks/R.framework/Resources/bin/R scrapper.buildbin-libdir StartedAt: 2025-02-01 16:48:06 -0500 (Sat, 01 Feb 2025) EndedAt: 2025-02-01 16:53:03 -0500 (Sat, 01 Feb 2025) EllapsedTime: 296.8 seconds RetCode: 0 Status: OK PackageFile: scrapper_1.0.3.tgz PackageFileSize: 1.397 MiB