Package: scp Version: 1.16.0 Command: /home/biocbuild/R/R/bin/R CMD check --install=check:scp.install-out.txt --library=/home/biocbuild/R/R/site-library --no-vignettes --timings scp_1.16.0.tar.gz StartedAt: 2025-02-04 10:53:45 -0000 (Tue, 04 Feb 2025) EndedAt: 2025-02-04 11:02:28 -0000 (Tue, 04 Feb 2025) EllapsedTime: 522.7 seconds RetCode: 0 Status: OK CheckDir: scp.Rcheck Warnings: 0