Package: scoup Version: 1.0.0 Command: /home/biocbuild/R/R/bin/R CMD INSTALL scoup StartedAt: 2025-01-30 20:15:11 -0000 (Thu, 30 Jan 2025) EndedAt: 2025-01-30 20:15:29 -0000 (Thu, 30 Jan 2025) EllapsedTime: 17.2 seconds RetCode: 0 Status: OK