Package: scoup Version: 1.0.0 Command: /home/biocbuild/R/R/bin/R CMD build --keep-empty-dirs --no-resave-data scoup StartedAt: 2025-01-31 02:32:31 -0000 (Fri, 31 Jan 2025) EndedAt: 2025-01-31 02:32:58 -0000 (Fri, 31 Jan 2025) EllapsedTime: 27.0 seconds RetCode: 0 Status: OK PackageFile: scoup_1.0.0.tar.gz PackageFileSize: 402 KiB