Package: scoup Version: 1.0.0 Command: F:\biocbuild\bbs-3.20-bioc\R\bin\R.exe CMD INSTALL scoup StartedAt: 2025-02-03 15:53:39 -0500 (Mon, 03 Feb 2025) EndedAt: 2025-02-03 15:54:15 -0500 (Mon, 03 Feb 2025) EllapsedTime: 36.3 seconds RetCode: 0 Status: OK