Package: scoup Version: 1.0.0 Command: F:\biocbuild\bbs-3.20-bioc\R\bin\R.exe CMD check --no-multiarch --install=check:scoup.install-out.txt --library=F:\biocbuild\bbs-3.20-bioc\R\library --no-vignettes --timings scoup_1.0.0.tar.gz StartedAt: 2025-01-31 06:14:45 -0500 (Fri, 31 Jan 2025) EndedAt: 2025-01-31 06:17:48 -0500 (Fri, 31 Jan 2025) EllapsedTime: 183.3 seconds RetCode: 0 Status: OK CheckDir: scoup.Rcheck Warnings: 0