Package: scoreInvHap Version: 1.28.0 Command: /home/biocbuild/bbs-3.20-bioc/R/bin/R CMD build --keep-empty-dirs --no-resave-data scoreInvHap StartedAt: 2024-11-19 21:36:46 -0500 (Tue, 19 Nov 2024) EndedAt: 2024-11-19 21:37:47 -0500 (Tue, 19 Nov 2024) EllapsedTime: 61.1 seconds RetCode: 0 Status: OK PackageFile: scoreInvHap_1.28.0.tar.gz PackageFileSize: 1.073 MiB