Package: scone Version: 1.30.0 Command: /home/biocbuild/R/R/bin/R CMD INSTALL scone StartedAt: 2025-01-27 21:46:17 -0000 (Mon, 27 Jan 2025) EndedAt: 2025-01-27 21:47:23 -0000 (Mon, 27 Jan 2025) EllapsedTime: 65.9 seconds RetCode: 0 Status: OK