Package: scone Version: 1.30.0 Command: chmod a+r scone -R && F:\biocbuild\bbs-3.20-bioc\R\bin\R.exe CMD build --keep-empty-dirs --no-resave-data scone StartedAt: 2025-02-03 21:58:54 -0500 (Mon, 03 Feb 2025) EndedAt: 2025-02-03 22:02:34 -0500 (Mon, 03 Feb 2025) EllapsedTime: 220.0 seconds RetCode: 0 Status: OK PackageFile: scone_1.30.0.tar.gz PackageFileSize: 846.4 KiB