Package: scone Version: 1.30.0 Command: /Library/Frameworks/R.framework/Resources/bin/R CMD build --keep-empty-dirs --no-resave-data scone StartedAt: 2025-01-27 22:23:12 -0500 (Mon, 27 Jan 2025) EndedAt: 2025-01-27 22:29:25 -0500 (Mon, 27 Jan 2025) EllapsedTime: 372.7 seconds RetCode: 0 Status: OK PackageFile: scone_1.30.0.tar.gz PackageFileSize: 1.894 MiB