Package: scmeth Version: 1.26.0 Command: /home/biocbuild/R/R/bin/R CMD build --keep-empty-dirs --no-resave-data scmeth StartedAt: 2025-01-28 03:09:37 -0000 (Tue, 28 Jan 2025) EndedAt: 2025-01-28 03:11:22 -0000 (Tue, 28 Jan 2025) EllapsedTime: 105.1 seconds RetCode: 0 Status: OK PackageFile: scmeth_1.26.0.tar.gz PackageFileSize: 793.8 KiB