Package: scmeth Version: 1.26.0 Command: F:\biocbuild\bbs-3.20-bioc\R\bin\R.exe CMD INSTALL scmeth StartedAt: 2025-01-27 16:18:03 -0500 (Mon, 27 Jan 2025) EndedAt: 2025-01-27 16:19:14 -0500 (Mon, 27 Jan 2025) EllapsedTime: 71.5 seconds RetCode: 0 Status: OK