Package: scmeth Version: 1.26.0 Command: /Library/Frameworks/R.framework/Resources/bin/R CMD build --keep-empty-dirs --no-resave-data scmeth StartedAt: 2025-01-27 22:21:34 -0500 (Mon, 27 Jan 2025) EndedAt: 2025-01-27 22:25:25 -0500 (Mon, 27 Jan 2025) EllapsedTime: 231.8 seconds RetCode: 0 Status: OK PackageFile: scmeth_1.26.0.tar.gz PackageFileSize: 776.6 KiB