Package: scmeth Version: 1.26.0 Command: /Library/Frameworks/R.framework/Resources/bin/R CMD INSTALL scmeth StartedAt: 2025-01-27 16:34:24 -0500 (Mon, 27 Jan 2025) EndedAt: 2025-01-27 16:35:13 -0500 (Mon, 27 Jan 2025) EllapsedTime: 49.0 seconds RetCode: 0 Status: OK