Package: scmap Version: 1.28.0 Command: /home/biocbuild/R/R/bin/R CMD build --keep-empty-dirs --no-resave-data scmap StartedAt: 2025-01-28 03:08:27 -0000 (Tue, 28 Jan 2025) EndedAt: 2025-01-28 03:09:43 -0000 (Tue, 28 Jan 2025) EllapsedTime: 76.1 seconds RetCode: 0 Status: OK PackageFile: scmap_1.28.0.tar.gz PackageFileSize: 2.046 MiB