Package: scmap Version: 1.28.0 Command: F:\biocbuild\bbs-3.20-bioc\R\bin\R.exe CMD INSTALL scmap StartedAt: 2025-01-27 16:05:25 -0500 (Mon, 27 Jan 2025) EndedAt: 2025-01-27 16:06:18 -0500 (Mon, 27 Jan 2025) EllapsedTime: 53.3 seconds RetCode: 0 Status: OK