Package: scmap Version: 1.28.0 Command: /home/biocbuild/bbs-3.20-bioc/R/bin/R CMD INSTALL scmap StartedAt: 2025-01-27 16:04:55 -0500 (Mon, 27 Jan 2025) EndedAt: 2025-01-27 16:05:32 -0500 (Mon, 27 Jan 2025) EllapsedTime: 37.3 seconds RetCode: 0 Status: OK