Package: scmap Version: 1.28.0 Command: /home/biocbuild/bbs-3.20-bioc/R/bin/R CMD build --keep-empty-dirs --no-resave-data --md5 scmap StartedAt: 2025-01-27 19:57:14 -0500 (Mon, 27 Jan 2025) EndedAt: 2025-01-27 19:58:21 -0500 (Mon, 27 Jan 2025) EllapsedTime: 67.0 seconds RetCode: 0 Status: OK PackageFile: scmap_1.28.0.tar.gz PackageFileSize: 2.237 MiB