Package: scmap Version: 1.28.0 Command: /Library/Frameworks/R.framework/Resources/bin/R CMD INSTALL scmap StartedAt: 2025-01-27 15:23:57 -0500 (Mon, 27 Jan 2025) EndedAt: 2025-01-27 15:25:22 -0500 (Mon, 27 Jan 2025) EllapsedTime: 85.0 seconds RetCode: 0 Status: OK