Package: scmap Version: 1.28.0 Command: /Library/Frameworks/R.framework/Resources/bin/R CMD check --install=check:scmap.install-out.txt --library=/Library/Frameworks/R.framework/Resources/library --no-vignettes --timings scmap_1.28.0.tar.gz StartedAt: 2025-01-28 09:52:34 -0500 (Tue, 28 Jan 2025) EndedAt: 2025-01-28 09:59:06 -0500 (Tue, 28 Jan 2025) EllapsedTime: 391.4 seconds RetCode: 0 Status: OK CheckDir: scmap.Rcheck Warnings: 0