Package: scmap Version: 1.28.0 Command: /Library/Frameworks/R.framework/Resources/bin/R CMD build --keep-empty-dirs --no-resave-data scmap StartedAt: 2025-01-27 22:20:12 -0500 (Mon, 27 Jan 2025) EndedAt: 2025-01-27 22:23:12 -0500 (Mon, 27 Jan 2025) EllapsedTime: 180.4 seconds RetCode: 0 Status: OK PackageFile: scmap_1.28.0.tar.gz PackageFileSize: 2.252 MiB