Package: scifer Version: 1.8.1 Command: /home/biocbuild/bbs-3.20-bioc/R/bin/R CMD check --install=check:scifer.install-out.txt --library=/home/biocbuild/bbs-3.20-bioc/R/site-library --timings scifer_1.8.1.tar.gz StartedAt: 2025-02-04 02:13:12 -0500 (Tue, 04 Feb 2025) EndedAt: 2025-02-04 02:20:59 -0500 (Tue, 04 Feb 2025) EllapsedTime: 467.4 seconds RetCode: 0 Status: OK CheckDir: scifer.Rcheck Warnings: 0