Package: scifer Version: 1.8.0 Command: rm -rf scifer.buildbin-libdir && mkdir scifer.buildbin-libdir && /Users/biocbuild/BBS/utils/build-universal.sh scifer_1.8.0.tar.gz /Library/Frameworks/R.framework/Resources/bin/R scifer.buildbin-libdir StartedAt: 2024-11-09 17:10:40 -0500 (Sat, 09 Nov 2024) EndedAt: 2024-11-09 17:10:48 -0500 (Sat, 09 Nov 2024) EllapsedTime: 7.1 seconds RetCode: 0 Status: OK PackageFile: scifer_1.8.0.tgz PackageFileSize: 1.557 MiB