Package: scifer Version: 1.8.1 Command: /Library/Frameworks/R.framework/Resources/bin/R CMD check --install=check:scifer.install-out.txt --library=/Library/Frameworks/R.framework/Resources/library --no-vignettes --timings scifer_1.8.1.tar.gz StartedAt: 2025-02-05 09:14:23 -0500 (Wed, 05 Feb 2025) EndedAt: 2025-02-05 09:22:04 -0500 (Wed, 05 Feb 2025) EllapsedTime: 461.5 seconds RetCode: 0 Status: OK CheckDir: scifer.Rcheck Warnings: 0