Package: scifer Version: 1.8.1 Command: rm -rf scifer.buildbin-libdir && mkdir scifer.buildbin-libdir && /Users/biocbuild/BBS/utils/build-universal.sh scifer_1.8.1.tar.gz /Library/Frameworks/R.framework/Resources/bin/R scifer.buildbin-libdir StartedAt: 2025-02-05 17:41:09 -0500 (Wed, 05 Feb 2025) EndedAt: 2025-02-05 17:41:31 -0500 (Wed, 05 Feb 2025) EllapsedTime: 22.1 seconds RetCode: 0 Status: OK PackageFile: scifer_1.8.1.tgz PackageFileSize: 1.557 MiB