Package: scider Version: 1.4.0 Command: F:\biocbuild\bbs-3.20-bioc\R\bin\R.exe CMD check --no-multiarch --install=check:scider.install-out.txt --library=F:\biocbuild\bbs-3.20-bioc\R\library --no-vignettes --timings scider_1.4.0.tar.gz StartedAt: 2025-01-31 06:11:11 -0500 (Fri, 31 Jan 2025) EndedAt: 2025-01-31 06:19:12 -0500 (Fri, 31 Jan 2025) EllapsedTime: 481.1 seconds RetCode: 0 Status: OK CheckDir: scider.Rcheck Warnings: 0