Package: schex Version: 1.20.0 Command: chmod a+r schex -R && F:\biocbuild\bbs-3.20-bioc\R\bin\R.exe CMD build --keep-empty-dirs --no-resave-data schex StartedAt: 2025-01-30 21:39:33 -0500 (Thu, 30 Jan 2025) EndedAt: 2025-01-30 21:42:11 -0500 (Thu, 30 Jan 2025) EllapsedTime: 158.0 seconds RetCode: 0 Status: OK PackageFile: schex_1.20.0.tar.gz PackageFileSize: 2.892 MiB