Package: scde Version: 2.34.0 Command: /Library/Frameworks/R.framework/Resources/bin/R CMD INSTALL scde StartedAt: 2025-03-31 16:18:00 -0400 (Mon, 31 Mar 2025) EndedAt: 2025-03-31 16:19:50 -0400 (Mon, 31 Mar 2025) EllapsedTime: 110.1 seconds RetCode: 0 Status: OK