Package: sccomp Version: 1.10.0 Command: rm -rf sccomp.buildbin-libdir && mkdir sccomp.buildbin-libdir && F:\biocbuild\bbs-3.20-bioc\R\bin\R.exe CMD INSTALL --build --library=sccomp.buildbin-libdir sccomp_1.10.0.tar.gz StartedAt: 2025-02-04 09:26:56 -0500 (Tue, 04 Feb 2025) EndedAt: 2025-02-04 09:27:52 -0500 (Tue, 04 Feb 2025) EllapsedTime: 55.9 seconds RetCode: 0 Status: OK PackageFile: sccomp_1.10.0.zip PackageFileSize: 5.647 MiB