Package: sccomp Version: 1.10.0 Command: /home/biocbuild/bbs-3.20-bioc/R/bin/R CMD check --install=check:sccomp.install-out.txt --library=/home/biocbuild/bbs-3.20-bioc/R/site-library --timings sccomp_1.10.0.tar.gz StartedAt: 2025-01-28 02:52:03 -0500 (Tue, 28 Jan 2025) EndedAt: 2025-01-28 02:56:10 -0500 (Tue, 28 Jan 2025) EllapsedTime: 247.6 seconds RetCode: 0 Status: WARNINGS CheckDir: sccomp.Rcheck Warnings: 1