Package: sccomp Version: 1.10.0 Command: /home/biocbuild/bbs-3.20-bioc/R/bin/R CMD build --keep-empty-dirs --no-resave-data --md5 sccomp StartedAt: 2025-03-31 18:57:35 -0400 (Mon, 31 Mar 2025) EndedAt: 2025-03-31 18:58:19 -0400 (Mon, 31 Mar 2025) EllapsedTime: 44.0 seconds RetCode: 0 Status: OK PackageFile: sccomp_1.10.0.tar.gz PackageFileSize: 2.49 MiB