Package: sccomp Version: 1.10.0 Command: /Library/Frameworks/R.framework/Resources/bin/R CMD build --keep-empty-dirs --no-resave-data sccomp StartedAt: 2025-01-27 22:17:04 -0500 (Mon, 27 Jan 2025) EndedAt: 2025-01-27 22:19:06 -0500 (Mon, 27 Jan 2025) EllapsedTime: 121.7 seconds RetCode: 0 Status: OK PackageFile: sccomp_1.10.0.tar.gz PackageFileSize: 2.488 MiB