Package: sccomp Version: 1.10.0 Command: rm -rf sccomp.buildbin-libdir && mkdir sccomp.buildbin-libdir && /Users/biocbuild/BBS/utils/build-universal.sh sccomp_1.10.0.tar.gz /Library/Frameworks/R.framework/Resources/bin/R sccomp.buildbin-libdir StartedAt: 2025-01-28 14:29:26 -0500 (Tue, 28 Jan 2025) EndedAt: 2025-01-28 14:30:56 -0500 (Tue, 28 Jan 2025) EllapsedTime: 90.3 seconds RetCode: 0 Status: OK PackageFile: sccomp_1.10.0.tgz PackageFileSize: 5.69 MiB