Package: scatterHatch Version: 1.12.0 Command: /home/biocbuild/R/R/bin/R CMD build --keep-empty-dirs --no-resave-data scatterHatch StartedAt: 2025-04-01 02:22:05 -0000 (Tue, 01 Apr 2025) EndedAt: 2025-04-01 02:22:48 -0000 (Tue, 01 Apr 2025) EllapsedTime: 43.1 seconds RetCode: 0 Status: OK PackageFile: scatterHatch_1.12.0.tar.gz PackageFileSize: 1.647 MiB