Package: scatterHatch Version: 1.12.0 Command: /home/biocbuild/bbs-3.20-bioc/R/bin/R CMD build --keep-empty-dirs --no-resave-data --md5 scatterHatch StartedAt: 2025-01-30 18:59:03 -0500 (Thu, 30 Jan 2025) EndedAt: 2025-01-30 18:59:48 -0500 (Thu, 30 Jan 2025) EllapsedTime: 45.1 seconds RetCode: 0 Status: OK PackageFile: scatterHatch_1.12.0.tar.gz PackageFileSize: 3.05 MiB