Package: scatterHatch Version: 1.12.0 Command: /Library/Frameworks/R.framework/Resources/bin/R CMD check --install=check:scatterHatch.install-out.txt --library=/Library/Frameworks/R.framework/Resources/library --no-vignettes --timings scatterHatch_1.12.0.tar.gz StartedAt: 2025-04-01 08:36:54 -0400 (Tue, 01 Apr 2025) EndedAt: 2025-04-01 08:39:49 -0400 (Tue, 01 Apr 2025) EllapsedTime: 175.0 seconds RetCode: 0 Status: OK CheckDir: scatterHatch.Rcheck Warnings: 0