Package: scatterHatch Version: 1.12.0 Command: /Library/Frameworks/R.framework/Resources/bin/R CMD build --keep-empty-dirs --no-resave-data scatterHatch StartedAt: 2025-01-27 22:15:06 -0500 (Mon, 27 Jan 2025) EndedAt: 2025-01-27 22:16:28 -0500 (Mon, 27 Jan 2025) EllapsedTime: 82.4 seconds RetCode: 0 Status: OK PackageFile: scatterHatch_1.12.0.tar.gz PackageFileSize: 3.861 MiB