Package: scater Version: 1.34.0 Command: /home/biocbuild/R/R/bin/R CMD check --install=check:scater.install-out.txt --library=/home/biocbuild/R/R/site-library --no-vignettes --timings scater_1.34.0.tar.gz StartedAt: 2025-01-31 10:05:02 -0000 (Fri, 31 Jan 2025) EndedAt: 2025-01-31 10:13:29 -0000 (Fri, 31 Jan 2025) EllapsedTime: 506.3 seconds RetCode: 0 Status: OK CheckDir: scater.Rcheck Warnings: 0