Package: scater Version: 1.34.1 Command: /home/biocbuild/bbs-3.20-bioc/R/bin/R CMD INSTALL scater StartedAt: 2025-03-31 15:52:53 -0400 (Mon, 31 Mar 2025) EndedAt: 2025-03-31 15:53:19 -0400 (Mon, 31 Mar 2025) EllapsedTime: 26.5 seconds RetCode: 0 Status: OK