Package: scater Version: 1.34.1 Command: /home/biocbuild/bbs-3.20-bioc/R/bin/R CMD check --install=check:scater.install-out.txt --library=/home/biocbuild/bbs-3.20-bioc/R/site-library --timings scater_1.34.1.tar.gz StartedAt: 2025-04-01 01:51:43 -0400 (Tue, 01 Apr 2025) EndedAt: 2025-04-01 02:01:25 -0400 (Tue, 01 Apr 2025) EllapsedTime: 582.3 seconds RetCode: 0 Status: OK CheckDir: scater.Rcheck Warnings: 0