Package: scater Version: 1.34.1 Command: rm -rf scater.buildbin-libdir && mkdir scater.buildbin-libdir && /Users/biocbuild/BBS/utils/build-universal.sh scater_1.34.1.tar.gz /Library/Frameworks/R.framework/Resources/bin/R scater.buildbin-libdir StartedAt: 2025-04-01 12:41:29 -0400 (Tue, 01 Apr 2025) EndedAt: 2025-04-01 12:42:35 -0400 (Tue, 01 Apr 2025) EllapsedTime: 65.8 seconds RetCode: 0 Status: OK PackageFile: scater_1.34.1.tgz PackageFileSize: 4.59 MiB