Package: scater Version: 1.34.1 Command: /Library/Frameworks/R.framework/Resources/bin/R CMD INSTALL scater StartedAt: 2025-03-31 17:44:27 -0400 (Mon, 31 Mar 2025) EndedAt: 2025-03-31 17:45:00 -0400 (Mon, 31 Mar 2025) EllapsedTime: 32.8 seconds RetCode: 0 Status: OK