Package: scater Version: 1.34.1 Command: /Library/Frameworks/R.framework/Resources/bin/R CMD check --install=check:scater.install-out.txt --library=/Library/Frameworks/R.framework/Resources/library --no-vignettes --timings scater_1.34.1.tar.gz StartedAt: 2025-04-02 07:28:02 -0400 (Wed, 02 Apr 2025) EndedAt: 2025-04-02 07:36:36 -0400 (Wed, 02 Apr 2025) EllapsedTime: 513.4 seconds RetCode: 1 Status: ERROR CheckDir: scater.Rcheck Warnings: NA